BEGIN:VCALENDAR
VERSION:2.0
PRODID:-//ProMendoza - ECPv5.8.0//NONSGML v1.0//EN
CALSCALE:GREGORIAN
METHOD:PUBLISH
X-WR-CALNAME:ProMendoza
X-ORIGINAL-URL:https://www.promendoza.com/en
X-WR-CALDESC:Events for ProMendoza
BEGIN:VTIMEZONE
TZID:America/Argentina/Mendoza
BEGIN:STANDARD
TZOFFSETFROM:-0300
TZOFFSETTO:-0300
TZNAME:-03
DTSTART:20260101T000000
END:STANDARD
END:VTIMEZONE
BEGIN:VEVENT
DTSTART;VALUE=DATE:20261015
DTEND;VALUE=DATE:20261018
DTSTAMP:20260419T105416
CREATED:20260304T170903Z
LAST-MODIFIED:20260304T170914Z
UID:16415-1792022400-1792281599@www.promendoza.com
SUMMARY:Global Produce and Floral Show – Orlando\, EEUU
DESCRIPTION:Feria clave del sector hortofrutícola y de frutas secas\, donde productores conectan con grandes cadenas y distribuidores de Estados Unidos. \nPara mayor información garribas@promendoza.com.
URL:https://www.promendoza.com/en/event/global-produce-and-floral-show-orlando-eeuu/
CATEGORIES:Alimentos,Frutas deshidratadas
ATTACH;FMTTYPE=image/jpeg:https://www.promendoza.com/wp-content/uploads/2026/03/Global-Prod.jpg
END:VEVENT
END:VCALENDAR