BEGIN:VCALENDAR
VERSION:2.0
PRODID:-//ProMendoza - ECPv5.8.0//NONSGML v1.0//EN
CALSCALE:GREGORIAN
METHOD:PUBLISH
X-WR-CALNAME:ProMendoza
X-ORIGINAL-URL:https://www.promendoza.com/en
X-WR-CALDESC:Events for ProMendoza
BEGIN:VTIMEZONE
TZID:America/Argentina/Mendoza
BEGIN:STANDARD
TZOFFSETFROM:-0300
TZOFFSETTO:-0300
TZNAME:-03
DTSTART:20260101T000000
END:STANDARD
END:VTIMEZONE
BEGIN:VEVENT
DTSTART;VALUE=DATE:20260209
DTEND;VALUE=DATE:20260212
DTSTAMP:20260419T122152
CREATED:20260304T160219Z
LAST-MODIFIED:20260304T160219Z
UID:16375-1770595200-1770854399@www.promendoza.com
SUMMARY:Vinexpo Paris (Wine Paris) – París\, Francia
DESCRIPTION:Este encuentro en París es clave para el sector vitivinícola\, ya que reúne a compradores\, distribuidores e importadores de todo el mundo\, fortaleciendo la presencia internacional de las bodegas y ampliando oportunidades comerciales en mercados europeos y globales. \nPara mayor información escribir a jrojas@promendoza.com.
URL:https://www.promendoza.com/en/event/vinexpo-paris-wine-paris-paris-francia/
CATEGORIES:Vinos
ATTACH;FMTTYPE=image/jpeg:https://www.promendoza.com/wp-content/uploads/2026/03/wine-paris-2.jpg
END:VEVENT
END:VCALENDAR