BEGIN:VCALENDAR
VERSION:2.0
PRODID:-//ProMendoza - ECPv5.8.0//NONSGML v1.0//EN
CALSCALE:GREGORIAN
METHOD:PUBLISH
X-WR-CALNAME:ProMendoza
X-ORIGINAL-URL:https://www.promendoza.com/es
X-WR-CALDESC:Eventos para ProMendoza
BEGIN:VTIMEZONE
TZID:America/Argentina/Mendoza
BEGIN:STANDARD
TZOFFSETFROM:-0300
TZOFFSETTO:-0300
TZNAME:-03
DTSTART:20260101T000000
END:STANDARD
END:VTIMEZONE
BEGIN:VEVENT
DTSTART;VALUE=DATE:20260117
DTEND;VALUE=DATE:20260122
DTSTAMP:20260419T121616
CREATED:20260304T155622Z
LAST-MODIFIED:20260304T155622Z
UID:16372-1768608000-1769039999@www.promendoza.com
SUMMARY:Gulfood – Dubái\, EAU
DESCRIPTION:Gulfood\, realizada en Dubái\, es una de las ferias de alimentos más grandes del mundo y un punto estratégico para el comercio de alimentos y frutas secas\, donde productores y compradores globales cierran acuerdos\, detectan tendencias y amplían mercados en Medio Oriente\, África y Asia.\nPara mayor información escribir a garribas@promendoza.com. \n 
URL:https://www.promendoza.com/es/event/gulfood-dubai-eau/
CATEGORIES:Alimentos,Frutos secos
ATTACH;FMTTYPE=image/jpeg:https://www.promendoza.com/wp-content/uploads/2026/03/gulfood-exibithion.jpg
END:VEVENT
END:VCALENDAR