BEGIN:VCALENDAR
VERSION:2.0
PRODID:-//ProMendoza - ECPv5.8.0//NONSGML v1.0//EN
CALSCALE:GREGORIAN
METHOD:PUBLISH
X-WR-CALNAME:ProMendoza
X-ORIGINAL-URL:https://www.promendoza.com/es
X-WR-CALDESC:Eventos para ProMendoza
BEGIN:VTIMEZONE
TZID:America/Argentina/Mendoza
BEGIN:STANDARD
TZOFFSETFROM:-0300
TZOFFSETTO:-0300
TZNAME:-03
DTSTART:20260101T000000
END:STANDARD
END:VTIMEZONE
BEGIN:VEVENT
DTSTART;VALUE=DATE:20260921
DTEND;VALUE=DATE:20260925
DTSTAMP:20260419T103223
CREATED:20260304T165938Z
LAST-MODIFIED:20260304T165938Z
UID:16411-1789948800-1790294399@www.promendoza.com
SUMMARY:Argentina Oil & Gas Expo – Buenos Aires
DESCRIPTION:La principal feria del sector hidrocarburífero argentino\, donde operadores\, proveedores y entidades técnicas consolidan acuerdos y proyectos. \nPara mayor información escribir a gmartinez@promendoza.com.
URL:https://www.promendoza.com/es/event/argentina-oil-gas-expo-buenos-aires/
CATEGORIES:Oil & Gas
ATTACH;FMTTYPE=image/jpeg:https://www.promendoza.com/wp-content/uploads/2026/03/oil-gas-2025.jpeg
END:VEVENT
END:VCALENDAR